BEGIN:VCALENDAR
VERSION:2.0
PRODID:-//UT Banjarmasin - ECPv6.15.20//NONSGML v1.0//EN
CALSCALE:GREGORIAN
METHOD:PUBLISH
X-ORIGINAL-URL:https://banjarmasin.ut.ac.id
X-WR-CALDESC:Events for UT Banjarmasin
REFRESH-INTERVAL;VALUE=DURATION:PT1H
X-Robots-Tag:noindex
X-PUBLISHED-TTL:PT1H
BEGIN:VTIMEZONE
TZID:Asia/Shanghai
BEGIN:STANDARD
TZOFFSETFROM:+0800
TZOFFSETTO:+0800
TZNAME:CST
DTSTART:20250101T000000
END:STANDARD
END:VTIMEZONE
BEGIN:VEVENT
DTSTART;VALUE=DATE:20260309
DTEND;VALUE=DATE:20260609
DTSTAMP:20260423T145603
CREATED:20240710T002158Z
LAST-MODIFIED:20260204T055757Z
UID:2724-1773014400-1780963199@banjarmasin.ut.ac.id
SUMMARY:Magister - Pelatihan Keterampilan Belajar Jarak Jauh(PKBJJ)
DESCRIPTION:Kegiatan ini diberikan kepada mahasiswa baru untuk memberikan tutorial bagaimana cara berkuliah di UT secara jarak jauh.
URL:https://banjarmasin.ut.ac.id/event/magister-pelatihan-keterampilan-belajar-jarak-jauhpkbjj/
CATEGORIES:Akademik
END:VEVENT
BEGIN:VEVENT
DTSTART;VALUE=DATE:20260309
DTEND;VALUE=DATE:20260609
DTSTAMP:20260423T145603
CREATED:20240710T002258Z
LAST-MODIFIED:20260204T055839Z
UID:2727-1773014400-1780963199@banjarmasin.ut.ac.id
SUMMARY:Magister - Workshop Tugas
DESCRIPTION:Kegiatan ini diperuntukkan untuk mahasiswa baru yang membahas cara\, tips\, dan trik mengerjakan tugas di UT agar sukses dan tidak terkendala apapun.
URL:https://banjarmasin.ut.ac.id/event/magister-workshop-tugas/
CATEGORIES:Akademik
END:VEVENT
BEGIN:VEVENT
DTSTART;VALUE=DATE:20260309
DTEND;VALUE=DATE:20260609
DTSTAMP:20260423T145603
CREATED:20240710T002400Z
LAST-MODIFIED:20260204T055902Z
UID:2730-1773014400-1780963199@banjarmasin.ut.ac.id
SUMMARY:Magister - Klinik Ujian
DESCRIPTION:Kegiatan ini diperuntukkan untuk mahasiswa baru yang membahas cara\, tips\, dan trik mengikuti ujian di UT agar sukses dan tidak terkendala apapun.
URL:https://banjarmasin.ut.ac.id/event/magister-klinik-ujian/
CATEGORIES:Akademik
END:VEVENT
BEGIN:VEVENT
DTSTART;VALUE=DATE:20260309
DTEND;VALUE=DATE:20260609
DTSTAMP:20260423T145603
CREATED:20240710T002803Z
LAST-MODIFIED:20260204T055934Z
UID:2734-1773014400-1780963199@banjarmasin.ut.ac.id
SUMMARY:Magister - Tutorial (Tuton dan TTM/Tuweb)
DESCRIPTION:Kegiatan tuton dapat diikuti dengan login di https://elearning.ut.ac.id\, bisa ditonton video berikut ini terkait gambaran cara melaksanakannya: \n \nDan kegiatan Tutorial Tatap Muka yang berbasis Tuweb harus diakses menggunakan aplikasi microsoft teams yang diinstall di device mahasiswa kemudian login menggunakan akun ecampus dan mengakses link kelas virtual yang diberikan di kelas tutonnya.
URL:https://banjarmasin.ut.ac.id/event/magister-tutorial-tuton-dan-ttm-tuweb/
CATEGORIES:Akademik
END:VEVENT
BEGIN:VEVENT
DTSTART;VALUE=DATE:20260309
DTEND;VALUE=DATE:20260609
DTSTAMP:20260423T145603
CREATED:20240710T013402Z
LAST-MODIFIED:20250603T000122Z
UID:2774-1773014400-1780963199@banjarmasin.ut.ac.id
SUMMARY:Doktor - Pelatihan Keterampilan Belajar Jarak Jauh(PKBJJ)
DESCRIPTION:Kegiatan ini diberikan kepada mahasiswa baru untuk memberikan tutorial bagaimana cara berkuliah di UT secara jarak jauh.
URL:https://banjarmasin.ut.ac.id/event/doktor-pelatihan-keterampilan-belajar-jarak-jauhpkbjj/
CATEGORIES:Akademik
END:VEVENT
BEGIN:VEVENT
DTSTART;VALUE=DATE:20260309
DTEND;VALUE=DATE:20260609
DTSTAMP:20260423T145603
CREATED:20240710T014005Z
LAST-MODIFIED:20260204T055959Z
UID:2782-1773014400-1780963199@banjarmasin.ut.ac.id
SUMMARY:Doktor - Tutorial (Tuton dan TTM/Tuweb)
DESCRIPTION:Kegiatan tuton dapat diikuti dengan login di https://elearning.ut.ac.id\, bisa ditonton video berikut ini terkait gambaran cara melaksanakannya: \n \nDan kegiatan Tutorial Tatap Muka yang berbasis Tuweb harus diakses menggunakan aplikasi microsoft teams yang diinstall di device mahasiswa kemudian login menggunakan akun ecampus dan mengakses link kelas virtual yang diberikan di kelas tutonnya.
URL:https://banjarmasin.ut.ac.id/event/doktor-tutorial-tuton-dan-ttm-tuweb/
CATEGORIES:Akademik
END:VEVENT
BEGIN:VEVENT
DTSTART;VALUE=DATE:20260413
DTEND;VALUE=DATE:20260629
DTSTAMP:20260423T145603
CREATED:20240709T055955Z
LAST-MODIFIED:20260204T054913Z
UID:2688-1776038400-1782691199@banjarmasin.ut.ac.id
SUMMARY:Sarjana/Diploma - Bimbingan dan Unggah Tugas Akhir Program Sarjana (TAPS)
DESCRIPTION:Diperuntukkan mahasiswa yang mengambil mata kuliah Karya Ilmiah. Mahasiswa harus mengikuti bimbingan dan lainnya untuk mata kuliah Karya Ilmiah di https://elearning.ut.ac.id pada semester berjalan.
URL:https://banjarmasin.ut.ac.id/event/bimbingan-dan-unggah-karya-ilmiah/
CATEGORIES:Akademik
END:VEVENT
BEGIN:VEVENT
DTSTART;TZID=Asia/Shanghai:20260413T080000
DTEND;TZID=Asia/Shanghai:20260614T170000
DTSTAMP:20260423T145603
CREATED:20240709T041744Z
LAST-MODIFIED:20260204T055614Z
UID:2655-1776067200-1781456400@banjarmasin.ut.ac.id
SUMMARY:Sarjana/Diploma - Tutorial Online (Tuton)
DESCRIPTION:Tutorial online untuk seluruh mahasiswa UT yang membayar billing registrasi mata kuliah di semester berjalan.
URL:https://banjarmasin.ut.ac.id/event/s1-tutorial-online-tuton/
CATEGORIES:Akademik
END:VEVENT
BEGIN:VEVENT
DTSTART;VALUE=DATE:20260520
DTEND;VALUE=DATE:20260704
DTSTAMP:20260423T145603
CREATED:20240710T014956Z
LAST-MODIFIED:20260416T010419Z
UID:2795-1779235200-1783123199@banjarmasin.ut.ac.id
SUMMARY:Doktor - Pencetakan KTPU
DESCRIPTION:KTPU (Kartu Tanda Peserta Ujian) UT bisa diakses mahasiswa setelah login di https://myut.ut.ac.id pada menu jadwal dan lokasi ujian.
URL:https://banjarmasin.ut.ac.id/event/doktor-pencetakan-ktpu/
CATEGORIES:Akademik
END:VEVENT
BEGIN:VEVENT
DTSTART;VALUE=DATE:20260520
DTEND;VALUE=DATE:20260706
DTSTAMP:20260423T145603
CREATED:20240709T060811Z
LAST-MODIFIED:20260416T010232Z
UID:2694-1779235200-1783295999@banjarmasin.ut.ac.id
SUMMARY:Sarjana/Diploma - Pencetakan KTPU
DESCRIPTION:KTPU (Kartu Tanda Peserta Ujian) UT bisa diakses mahasiswa setelah login di https://myut.ut.ac.id pada menu jadwal dan lokasi ujian.
URL:https://banjarmasin.ut.ac.id/event/pencetakan-ktpu/
CATEGORIES:Akademik
END:VEVENT
BEGIN:VEVENT
DTSTART;VALUE=DATE:20260520
DTEND;VALUE=DATE:20260706
DTSTAMP:20260423T145603
CREATED:20240710T004027Z
LAST-MODIFIED:20260416T010215Z
UID:2752-1779235200-1783295999@banjarmasin.ut.ac.id
SUMMARY:Magister - Pencetakan KTPU
DESCRIPTION:KTPU (Kartu Tanda Peserta Ujian) UT bisa diakses mahasiswa setelah login di https://myut.ut.ac.id pada menu jadwal dan lokasi ujian.
URL:https://banjarmasin.ut.ac.id/event/magister-pencetakan-ktpu/
CATEGORIES:Akademik
END:VEVENT
BEGIN:VEVENT
DTSTART;VALUE=DATE:20260520
DTEND;VALUE=DATE:20260905
DTSTAMP:20260423T145603
CREATED:20240709T033927Z
LAST-MODIFIED:20250909T024626Z
UID:2635-1779235200-1788566399@banjarmasin.ut.ac.id
SUMMARY:Disporseni & Dies Natalis Universitas Terbuka
DESCRIPTION:Disporseni adalah kegiatan yang merupakan rangkaian dari acara Dieas Natalis UT (Universitas Terbuka) berupa berbagai lomba untuk siswa SMA\, masyarakat\, mahasiswa\, dan staf UT seluruh Indonesia yang bisa dicek info selengkapnya di https://kemahasiswaan.ut.ac.id/disporseni. Puncak dari acara Dies Natalis UT (Universitas Terbuka) dilaksanakan tanggal 4 September setiap tahunnya
URL:https://banjarmasin.ut.ac.id/event/disporseni-dies-natalis-universitas-terbuka/
CATEGORIES:Akademik
END:VEVENT
BEGIN:VEVENT
DTSTART;VALUE=DATE:20260616
DTEND;VALUE=DATE:20260706
DTSTAMP:20260423T145603
CREATED:20240710T004310Z
LAST-MODIFIED:20260416T005811Z
UID:2754-1781568000-1783295999@banjarmasin.ut.ac.id
SUMMARY:Magister - Ujian Akhir Semester (Online)
DESCRIPTION:Ujian online saat ini mempunyai 2 skema\, yaitu: \n\nUjian online live proctoring\, ini adalah ujian online yang harus datang ke lokasi yang tertera di KTPU secara fisik dengan membawa kartu peserta ujian dan alat tulis. Serta buku dan kalkulator apabila ujian bersifat buka buku.\nUjian online remote proctoring\, ini adalah ujian yang harus masuk ke ruang virtual dengan cara mengklik link yang tertera di KTPU menggunakan handphone yang sudah diinstall aplikasi Microsoft teams dan login ke aplikasi tersebut menggunakan akun Ecampus UT. Serta menyediakan atau memprint Buku Jawaban Ujian yang bisa didownload melalui laman https://suo.ut.ac.id  dan pilih Unduh/Unggah BJU serta mengisi data-data yang diminta aplikasi apabila ujian bersifat Esay/Uraian. Ujian berupa uraian apabila di KTPU tertera huruf ‘E’ pada baris mata kuliahnya. Kemudian juga menyediakan laptop untuk membuka soal dengan mengakses https://suo.ut.ac.id. Secara singkat bisa dilihat pelaksanaan ujiannya di video berikut ini.\n\n \n 
URL:https://banjarmasin.ut.ac.id/event/magister-ujian-akhir-semester-online/
CATEGORIES:Akademik
END:VEVENT
BEGIN:VEVENT
DTSTART;TZID=Asia/Shanghai:20260620T080000
DTEND;TZID=Asia/Shanghai:20260620T170000
DTSTAMP:20260423T145603
CREATED:20240709T061038Z
LAST-MODIFIED:20260416T010106Z
UID:2698-1781942400-1781974800@banjarmasin.ut.ac.id
SUMMARY:Sarjana/Diploma - Ujian Akhir Semester (Tatap Muka)
DESCRIPTION:Untuk mahasiswa yang mempunyai KTPU UTM (Ujian Tatap Muka).
URL:https://banjarmasin.ut.ac.id/event/ujian-akhir-semester-tatap-muka/
CATEGORIES:Akademik
END:VEVENT
BEGIN:VEVENT
DTSTART;TZID=Asia/Shanghai:20260621T080000
DTEND;TZID=Asia/Shanghai:20260705T170000
DTSTAMP:20260423T145603
CREATED:20240630T152353Z
LAST-MODIFIED:20260416T005556Z
UID:2217-1782028800-1783270800@banjarmasin.ut.ac.id
SUMMARY:Sarjana/Diploma - Ujian Akhir Semester (Ujian Online)
DESCRIPTION:Ujian online saat ini mempunyai 2 skema\, yaitu: \n\nUjian online live proctoring\, ini adalah ujian online yang harus datang ke lokasi yang tertera di KTPU secara fisik dengan membawa kartu peserta ujian dan alat tulis. Serta buku dan kalkulator apabila ujian bersifat buka buku.\nUjian online remote proctoring\, ini adalah ujian yang harus masuk ke ruang virtual dengan cara mengklik link yang tertera di KTPU menggunakan handphone yang sudah diinstall aplikasi Microsoft teams dan login ke aplikasi tersebut menggunakan akun Ecampus UT. Serta menyediakan atau memprint Buku Jawaban Ujian yang bisa didownload melalui laman https://suo.ut.ac.id  dan pilih Unduh/Unggah BJU serta mengisi data-data yang diminta aplikasi apabila ujian bersifat Esay/Uraian. Ujian berupa uraian apabila di KTPU tertera huruf ‘E’ pada baris mata kuliahnya. Kemudian juga menyediakan laptop untuk membuka soal dengan mengakses https://suo.ut.ac.id. Secara singkat bisa dilihat pelaksanaan ujiannya di video berikut ini.\n\n \n 
URL:https://banjarmasin.ut.ac.id/event/ujian-akhir-semester-ujian-online/
CATEGORIES:Akademik
END:VEVENT
BEGIN:VEVENT
DTSTART;TZID=Asia/Shanghai:20260623T080000
DTEND;TZID=Asia/Shanghai:20260704T170000
DTSTAMP:20260423T145603
CREATED:20240710T015051Z
LAST-MODIFIED:20260204T060244Z
UID:2797-1782201600-1783184400@banjarmasin.ut.ac.id
SUMMARY:Doktor - Ujian Akhir Semester (Online)
DESCRIPTION:Ujian online saat ini mempunyai 2 skema\, yaitu: \n\nUjian online live proctoring\, ini adalah ujian online yang harus datang ke lokasi yang tertera di KTPU secara fisik dengan membawa kartu peserta ujian dan alat tulis. Serta buku dan kalkulator apabila ujian bersifat buka buku.\nUjian online remote proctoring\, ini adalah ujian yang harus masuk ke ruang virtual dengan cara mengklik link yang tertera di KTPU menggunakan handphone yang sudah diinstall aplikasi Microsoft teams dan login ke aplikasi tersebut menggunakan akun Ecampus UT. Serta menyediakan atau memprint Buku Jawaban Ujian yang bisa didownload melalui laman https://suo.ut.ac.id  dan pilih Unduh/Unggah BJU serta mengisi data-data yang diminta aplikasi apabila ujian bersifat Esay/Uraian. Ujian berupa uraian apabila di KTPU tertera huruf ‘E’ pada baris mata kuliahnya. Kemudian juga menyediakan laptop untuk membuka soal dengan mengakses https://suo.ut.ac.id. Secara singkat bisa dilihat pelaksanaan ujiannya di video berikut ini.\n\n \n 
URL:https://banjarmasin.ut.ac.id/event/doktor-ujian-akhir-semester-online/
CATEGORIES:Akademik
END:VEVENT
BEGIN:VEVENT
DTSTART;VALUE=DATE:20260628
DTEND;VALUE=DATE:20260629
DTSTAMP:20260423T145603
CREATED:20240709T060929Z
LAST-MODIFIED:20260204T060212Z
UID:2696-1782604800-1782691199@banjarmasin.ut.ac.id
SUMMARY:Sarjana/Diploma - Batas Akhir Mengunggah Laporan Praktik/Praktikum
DESCRIPTION:Untuk mahasiswa yang mengambil mata kuliah yang termasuk dalam kategori mata kuliah Praktik/Praktikum. Mengunggah laporannya di https://praktik.ut.ac.id.
URL:https://banjarmasin.ut.ac.id/event/batas-akhir-mengunggah-laporan-praktik-praktikum/
CATEGORIES:Akademik
END:VEVENT
END:VCALENDAR