BEGIN:VCALENDAR
VERSION:2.0
PRODID:-//UT Banjarmasin - ECPv6.15.20//NONSGML v1.0//EN
CALSCALE:GREGORIAN
METHOD:PUBLISH
X-WR-CALNAME:UT Banjarmasin
X-ORIGINAL-URL:https://banjarmasin.ut.ac.id
X-WR-CALDESC:Events for UT Banjarmasin
REFRESH-INTERVAL;VALUE=DURATION:PT1H
X-Robots-Tag:noindex
X-PUBLISHED-TTL:PT1H
BEGIN:VTIMEZONE
TZID:Asia/Shanghai
BEGIN:STANDARD
TZOFFSETFROM:+0800
TZOFFSETTO:+0800
TZNAME:CST
DTSTART:20250101T000000
END:STANDARD
END:VTIMEZONE
BEGIN:VEVENT
DTSTART;VALUE=DATE:20260520
DTEND;VALUE=DATE:20260905
DTSTAMP:20260424T194559
CREATED:20240709T033927Z
LAST-MODIFIED:20250909T024626Z
UID:2635-1779235200-1788566399@banjarmasin.ut.ac.id
SUMMARY:Disporseni & Dies Natalis Universitas Terbuka
DESCRIPTION:Disporseni adalah kegiatan yang merupakan rangkaian dari acara Dieas Natalis UT (Universitas Terbuka) berupa berbagai lomba untuk siswa SMA\, masyarakat\, mahasiswa\, dan staf UT seluruh Indonesia yang bisa dicek info selengkapnya di https://kemahasiswaan.ut.ac.id/disporseni. Puncak dari acara Dies Natalis UT (Universitas Terbuka) dilaksanakan tanggal 4 September setiap tahunnya
URL:https://banjarmasin.ut.ac.id/event/disporseni-dies-natalis-universitas-terbuka/
CATEGORIES:Akademik
END:VEVENT
BEGIN:VEVENT
DTSTART;VALUE=DATE:20260805
DTEND;VALUE=DATE:20260806
DTSTAMP:20260424T194559
CREATED:20240710T004632Z
LAST-MODIFIED:20260416T010320Z
UID:2756-1785888000-1785974399@banjarmasin.ut.ac.id
SUMMARY:Magister - Pengumuman Nilai Mata Kuliah
DESCRIPTION:Nilai akhir dapat dilihat di MyUT dengan login ke https://myut.ut.ac.id kemudian pilih menu LKAM untuk melihat keseluruhan nilai di semua semester dan pilih menu Daftar Nilai Ujian.
URL:https://banjarmasin.ut.ac.id/event/magister-pengumuman-nilai-mata-kuliah/
CATEGORIES:Akademik
END:VEVENT
BEGIN:VEVENT
DTSTART;VALUE=DATE:20260805
DTEND;VALUE=DATE:20260806
DTSTAMP:20260424T194559
CREATED:20240710T004737Z
LAST-MODIFIED:20260416T005851Z
UID:2758-1785888000-1785974399@banjarmasin.ut.ac.id
SUMMARY:Sarjana/Diploma - Pengumuman Nilai Mata Kuliah
DESCRIPTION:Nilai akhir dapat dilihat di MyUT dengan login ke https://myut.ut.ac.id kemudian pilih menu LKAM untuk melihat keseluruhan nilai di semua semester dan pilih menu Daftar Nilai Ujian.
URL:https://banjarmasin.ut.ac.id/event/sarjana-diploma-pengumuman-nilai-mata-kuliah/
CATEGORIES:Akademik
END:VEVENT
BEGIN:VEVENT
DTSTART;VALUE=DATE:20260805
DTEND;VALUE=DATE:20260806
DTSTAMP:20260424T194559
CREATED:20240710T015216Z
LAST-MODIFIED:20260416T005911Z
UID:2799-1785888000-1785974399@banjarmasin.ut.ac.id
SUMMARY:Doktor - Pengumuman Nilai Mata Kuliah
DESCRIPTION:Nilai akhir dapat dilihat di MyUT dengan login ke https://myut.ut.ac.id kemudian pilih menu LKAM untuk melihat keseluruhan nilai di semua semester dan pilih menu Daftar Nilai Ujian.
URL:https://banjarmasin.ut.ac.id/event/doktor-pengumuman-nilai-mata-kuliah/
CATEGORIES:Akademik
END:VEVENT
END:VCALENDAR