BEGIN:VCALENDAR
VERSION:2.0
PRODID:-//UT Banjarmasin - ECPv6.15.20//NONSGML v1.0//EN
CALSCALE:GREGORIAN
METHOD:PUBLISH
X-ORIGINAL-URL:https://banjarmasin.ut.ac.id
X-WR-CALDESC:Events for UT Banjarmasin
REFRESH-INTERVAL;VALUE=DURATION:PT1H
X-Robots-Tag:noindex
X-PUBLISHED-TTL:PT1H
BEGIN:VTIMEZONE
TZID:Asia/Shanghai
BEGIN:STANDARD
TZOFFSETFROM:+0800
TZOFFSETTO:+0800
TZNAME:CST
DTSTART:20240101T000000
END:STANDARD
END:VTIMEZONE
BEGIN:VEVENT
DTSTART;VALUE=DATE:20251001
DTEND;VALUE=DATE:20260228
DTSTAMP:20260426T084847
CREATED:20240709T032824Z
LAST-MODIFIED:20251001T003539Z
UID:2633-1759276800-1772236799@banjarmasin.ut.ac.id
SUMMARY:Sarjana/Diploma - Pembayaran TTM Atas Permintaan Mahasiswa
DESCRIPTION:Cara bayar billing UT bisa dicek di https://banjarmasin.ut.ac.id/cara-bayar-billing-ut/
URL:https://banjarmasin.ut.ac.id/event/pembayaran-ttm-atas-permintaan-mahasiswa/
CATEGORIES:Akademik
END:VEVENT
BEGIN:VEVENT
DTSTART;VALUE=DATE:20251002
DTEND;VALUE=DATE:20260310
DTSTAMP:20260426T084847
CREATED:20240709T035801Z
LAST-MODIFIED:20250909T025736Z
UID:2637-1759363200-1773100799@banjarmasin.ut.ac.id
SUMMARY:Sarjana/Diploma - Aktivasi Tutorial Online
DESCRIPTION:Bagi mahasiswa baru UT (Universitas Terbuka) yang sudah membayar billing registrasi mata kuliah harus melakukan aktivasi akun Tutorial Online dan hanya dilakukan sekali selama jadi mahasiswa UT di semester pertama berkuliah di UT. \nBagi mahasiswa lama UT yang sudah membayar billing registrasi mata kuliah harus mengisi form kesediaan mengikuti tutorial online untuk memberitahu aplikasi bahwa mahasiswa tersebut ingin mengikuti tutorial online. \nBerikut video tutorial aktivasi dan pengisian form kesediaan mengikuti tutorial online UT: \n \n  \n 
URL:https://banjarmasin.ut.ac.id/event/aktivasi-dan-pengisian-form-kesediaan-mengikuti-tutorial-online/
CATEGORIES:Akademik
END:VEVENT
BEGIN:VEVENT
DTSTART;TZID=Asia/Shanghai:20251002T080000
DTEND;TZID=Asia/Shanghai:20260308T170000
DTSTAMP:20260426T084847
CREATED:20240709T040357Z
LAST-MODIFIED:20250909T025317Z
UID:2639-1759392000-1772989200@banjarmasin.ut.ac.id
SUMMARY:Sarjana/Diploma - Orientasi Studi Mahasiswa Baru (OSMB)
DESCRIPTION:Kegiatan ini sangat penting karena bertujuan untuk mengenalkan apa itu UT lebih dalam dan memberikan arahan tips dan trik bagaimana sukses cara berkuliah di UT. Sehingga harus diikuti oleh seluruh mahasiswa baru UT.
URL:https://banjarmasin.ut.ac.id/event/orientasi-studi-mahasiswa-baru-osmb/
CATEGORIES:Akademik
END:VEVENT
BEGIN:VEVENT
DTSTART;TZID=Asia/Shanghai:20251002T080000
DTEND;TZID=Asia/Shanghai:20260308T170000
DTSTAMP:20260426T084847
CREATED:20240709T040535Z
LAST-MODIFIED:20250915T033807Z
UID:2641-1759392000-1772989200@banjarmasin.ut.ac.id
SUMMARY:Sarjana/Diploma - Pelatihan Keterampilan Belajar Jarak Jauh (PKBJJ)
DESCRIPTION:Kegiatan ini diberikan kepada mahasiswa baru untuk memberikan tutorial bagaimana cara berkuliah di UT secara jarak jauh.
URL:https://banjarmasin.ut.ac.id/event/pelatihan-keterampilan-belajar-jarak-jauh-pkbjj/
CATEGORIES:Akademik
END:VEVENT
BEGIN:VEVENT
DTSTART;TZID=Asia/Shanghai:20251002T080000
DTEND;TZID=Asia/Shanghai:20260524T170000
DTSTAMP:20260426T084847
CREATED:20240709T040731Z
LAST-MODIFIED:20250909T025359Z
UID:2643-1759392000-1779642000@banjarmasin.ut.ac.id
SUMMARY:Sarjana/Diploma - Workshop Tugas
DESCRIPTION:Kegiatan ini diperuntukkan untuk mahasiswa baru yang membahas cara\, tips\, dan trik mengerjakan tugas di UT agar sukses dan tidak terkendala apapun.
URL:https://banjarmasin.ut.ac.id/event/workshop-tugas/
CATEGORIES:Akademik
END:VEVENT
BEGIN:VEVENT
DTSTART;TZID=Asia/Shanghai:20251002T080000
DTEND;TZID=Asia/Shanghai:20260524T170000
DTSTAMP:20260426T084847
CREATED:20240709T040811Z
LAST-MODIFIED:20250909T025552Z
UID:2645-1759392000-1779642000@banjarmasin.ut.ac.id
SUMMARY:Sarjana/Diploma - Klinik Ujian
DESCRIPTION:Kegiatan ini diperuntukkan untuk mahasiswa baru yang membahas cara\, tips\, dan trik mengikuti ujian di UT agar sukses dan tidak terkendala apapun.
URL:https://banjarmasin.ut.ac.id/event/klinik-ujian/
CATEGORIES:Akademik
END:VEVENT
BEGIN:VEVENT
DTSTART;VALUE=DATE:20251008
DTEND;VALUE=DATE:20260402
DTSTAMP:20260426T084847
CREATED:20240710T003820Z
LAST-MODIFIED:20251015T001655Z
UID:2749-1759881600-1775087999@banjarmasin.ut.ac.id
SUMMARY:Magister - Pengumuman Lulusan
DESCRIPTION:Pengumuman daftar mahasiswa yang sudah memenuhi syarat untuk mengikuti wisuda. Bisa dicek oleh mahasiswa di https://aksi.ut.ac.id menu Data Alumni.
URL:https://banjarmasin.ut.ac.id/event/magister-pengumuman-lulusan/
CATEGORIES:Akademik
END:VEVENT
BEGIN:VEVENT
DTSTART;VALUE=DATE:20260126
DTEND;VALUE=DATE:20260311
DTSTAMP:20260426T084847
CREATED:20240710T002018Z
LAST-MODIFIED:20250909T024247Z
UID:2719-1769385600-1773187199@banjarmasin.ut.ac.id
SUMMARY:Magister - Aktivasi Tutorial Online
DESCRIPTION:Bagi mahasiswa baru UT (Universitas Terbuka) yang sudah membayar billing registrasi mata kuliah harus melakukan aktivasi akun Tutorial Online dan hanya dilakukan sekali selama jadi mahasiswa UT di semester pertama berkuliah di UT. \nBerikut video tutorial aktivasi dan ABAIKAN pengisian form kesediaan mengikuti tutorial online UT: \n \n  \n 
URL:https://banjarmasin.ut.ac.id/event/magister-aktivasi-tutorial-online/
CATEGORIES:Akademik
END:VEVENT
BEGIN:VEVENT
DTSTART;VALUE=DATE:20260126
DTEND;VALUE=DATE:20260311
DTSTAMP:20260426T084847
CREATED:20240710T013156Z
LAST-MODIFIED:20250915T033712Z
UID:2770-1769385600-1773187199@banjarmasin.ut.ac.id
SUMMARY:Doktor - Aktivasi Tutorial Online
DESCRIPTION:Bagi mahasiswa baru UT (Universitas Terbuka) yang sudah membayar billing registrasi mata kuliah harus melakukan aktivasi akun Tutorial Online dan hanya dilakukan sekali selama jadi mahasiswa UT di semester pertama berkuliah di UT. \nBerikut video tutorial aktivasi dan ABAIKAN pengisian form kesediaan mengikuti tutorial online UT: \n \n  \n 
URL:https://banjarmasin.ut.ac.id/event/doktor-aktivasi-tutorial-online/
CATEGORIES:Akademik
END:VEVENT
END:VCALENDAR