BEGIN:VCALENDAR
VERSION:2.0
PRODID:-//UT Banjarmasin - ECPv6.15.20//NONSGML v1.0//EN
CALSCALE:GREGORIAN
METHOD:PUBLISH
X-WR-CALNAME:UT Banjarmasin
X-ORIGINAL-URL:https://banjarmasin.ut.ac.id
X-WR-CALDESC:Events for UT Banjarmasin
REFRESH-INTERVAL;VALUE=DURATION:PT1H
X-Robots-Tag:noindex
X-PUBLISHED-TTL:PT1H
BEGIN:VTIMEZONE
TZID:Asia/Shanghai
BEGIN:STANDARD
TZOFFSETFROM:+0800
TZOFFSETTO:+0800
TZNAME:CST
DTSTART:20240101T000000
END:STANDARD
END:VTIMEZONE
BEGIN:VEVENT
DTSTART;VALUE=DATE:20260105
DTEND;VALUE=DATE:20260106
DTSTAMP:20260422T025307
CREATED:20240710T012528Z
LAST-MODIFIED:20250602T233714Z
UID:2761-1767571200-1767657599@banjarmasin.ut.ac.id
SUMMARY:Doktor - Pengumuman Hasil Tes Masuk
DESCRIPTION:Hasil tes masuk akan dikirimkan ke email masing-masing calon mahasiswa baru yang didaftarkan ke sistem admisi UT.
URL:https://banjarmasin.ut.ac.id/event/doktor-pengumuman-hasil-tes-masuk/
CATEGORIES:Akademik
END:VEVENT
BEGIN:VEVENT
DTSTART;VALUE=DATE:20260105
DTEND;VALUE=DATE:20260106
DTSTAMP:20260422T025307
CREATED:20240710T001211Z
LAST-MODIFIED:20250623T235718Z
UID:2710-1767571200-1767657599@banjarmasin.ut.ac.id
SUMMARY:Magister - Pengumuman Hasil Tes Masuk
DESCRIPTION:Hasil tes masuk akan dikirimkan ke email masing-masing calon mahasiswa baru yang didaftarkan ke sistem admisi UT.
URL:https://banjarmasin.ut.ac.id/event/magister-pengumuman-hasil-tes-masuk/
CATEGORIES:Akademik
END:VEVENT
BEGIN:VEVENT
DTSTART;VALUE=DATE:20251009
DTEND;VALUE=DATE:20251217
DTSTAMP:20260422T025307
CREATED:20240709T025856Z
LAST-MODIFIED:20260204T060138Z
UID:2622-1759968000-1765929599@banjarmasin.ut.ac.id
SUMMARY:Sarjana/Diploma - Unggah Berkas Mahasiswa Baru Alih Kredit
DESCRIPTION:Setelah melakukan pembayaran billing admisi\, login kembali ke https://admisi-sia.ut.ac.id sebagai calon mahasiswa. Kemudian isi semua data yang diminta oleh aplikasi dan cek berkala proses validasi data dan berkasnya.
URL:https://banjarmasin.ut.ac.id/event/unggah-berkas-mahasiswa-baru-alih-kredit/
CATEGORIES:Akademik
END:VEVENT
END:VCALENDAR