BEGIN:VCALENDAR
VERSION:2.0
PRODID:-//UT Banjarmasin - ECPv6.15.20//NONSGML v1.0//EN
CALSCALE:GREGORIAN
METHOD:PUBLISH
X-WR-CALNAME:UT Banjarmasin
X-ORIGINAL-URL:https://banjarmasin.ut.ac.id
X-WR-CALDESC:Events for UT Banjarmasin
REFRESH-INTERVAL;VALUE=DURATION:PT1H
X-Robots-Tag:noindex
X-PUBLISHED-TTL:PT1H
BEGIN:VTIMEZONE
TZID:Asia/Shanghai
BEGIN:STANDARD
TZOFFSETFROM:+0800
TZOFFSETTO:+0800
TZNAME:CST
DTSTART:20240101T000000
END:STANDARD
END:VTIMEZONE
BEGIN:VEVENT
DTSTART;VALUE=DATE:20260105
DTEND;VALUE=DATE:20260106
DTSTAMP:20260422T025310
CREATED:20240710T012528Z
LAST-MODIFIED:20250602T233714Z
UID:2761-1767571200-1767657599@banjarmasin.ut.ac.id
SUMMARY:Doktor - Pengumuman Hasil Tes Masuk
DESCRIPTION:Hasil tes masuk akan dikirimkan ke email masing-masing calon mahasiswa baru yang didaftarkan ke sistem admisi UT.
URL:https://banjarmasin.ut.ac.id/event/doktor-pengumuman-hasil-tes-masuk/
CATEGORIES:Akademik
END:VEVENT
BEGIN:VEVENT
DTSTART;VALUE=DATE:20260105
DTEND;VALUE=DATE:20260106
DTSTAMP:20260422T025310
CREATED:20240710T001211Z
LAST-MODIFIED:20250623T235718Z
UID:2710-1767571200-1767657599@banjarmasin.ut.ac.id
SUMMARY:Magister - Pengumuman Hasil Tes Masuk
DESCRIPTION:Hasil tes masuk akan dikirimkan ke email masing-masing calon mahasiswa baru yang didaftarkan ke sistem admisi UT.
URL:https://banjarmasin.ut.ac.id/event/magister-pengumuman-hasil-tes-masuk/
CATEGORIES:Akademik
END:VEVENT
BEGIN:VEVENT
DTSTART;VALUE=DATE:20251009
DTEND;VALUE=DATE:20251217
DTSTAMP:20260422T025310
CREATED:20240709T025856Z
LAST-MODIFIED:20260204T060138Z
UID:2622-1759968000-1765929599@banjarmasin.ut.ac.id
SUMMARY:Sarjana/Diploma - Unggah Berkas Mahasiswa Baru Alih Kredit
DESCRIPTION:Setelah melakukan pembayaran billing admisi\, login kembali ke https://admisi-sia.ut.ac.id sebagai calon mahasiswa. Kemudian isi semua data yang diminta oleh aplikasi dan cek berkala proses validasi data dan berkasnya.
URL:https://banjarmasin.ut.ac.id/event/unggah-berkas-mahasiswa-baru-alih-kredit/
CATEGORIES:Akademik
END:VEVENT
BEGIN:VEVENT
DTSTART;VALUE=DATE:20251001
DTEND;VALUE=DATE:20260129
DTSTAMP:20260422T025310
CREATED:20240709T025525Z
LAST-MODIFIED:20250819T003919Z
UID:2620-1759276800-1769644799@banjarmasin.ut.ac.id
SUMMARY:Sarjana/Diploma - Pembayaran Billing Admisi Mahasiswa Baru Lulusan SLTA Sederajat
DESCRIPTION:Setelah mendaftarkan akun admisi mahasiswa baru UT\, login kembali ke https://admisi-sia.ut.ac.id untuk kemudian mendowload billing/lip admisi pendaftaran mahasiswa baru terlebih dahulu. Cara bayar billing UT bisa dicek di https://banjarmasin.ut.ac.id/cara-bayar-billing-ut/
URL:https://banjarmasin.ut.ac.id/event/pembayaran-billing-admisi-mahasiswa-baru-lulusan-slta-sederajat/
CATEGORIES:Akademik
END:VEVENT
BEGIN:VEVENT
DTSTART;VALUE=DATE:20251001
DTEND;VALUE=DATE:20260129
DTSTAMP:20260422T025310
CREATED:20240709T025155Z
LAST-MODIFIED:20260204T055214Z
UID:2614-1759276800-1769644799@banjarmasin.ut.ac.id
SUMMARY:Sarjana/Diploma - Pembayaran Billing Admisi Mahasiswa Baru Alih Kredit
DESCRIPTION:Setelah mendaftarkan akun admisi mahasiswa baru UT\, login kembali ke https://admisi-sia.ut.ac.id untuk kemudian mendowload billing/lip admisi pendaftaran mahasiswa baru terlebih dahulu. Cara bayar billing UT bisa dicek di https://banjarmasin.ut.ac.id/cara-bayar-billing-ut/
URL:https://banjarmasin.ut.ac.id/event/pembayaran-billing-admisi-mahasiswa-baru-alih-kredit/
CATEGORIES:Akademik
END:VEVENT
BEGIN:VEVENT
DTSTART;VALUE=DATE:20251001
DTEND;VALUE=DATE:20260128
DTSTAMP:20260422T025310
CREATED:20240709T023145Z
LAST-MODIFIED:20250819T003846Z
UID:2607-1759276800-1769558399@banjarmasin.ut.ac.id
SUMMARY:Sarjana/Diploma - Pendaftaran Mahasiswa Baru Lulusan SLTA Sederajat
DESCRIPTION:Silahkan tonton video berikut ini ya untuk mempelajari lebih lanjut cara mendaftar menjadi mahasiswa baru:
URL:https://banjarmasin.ut.ac.id/event/pendaftaran-mahasiswa-baru-lulusan-slta-sederajat/
CATEGORIES:Akademik
END:VEVENT
BEGIN:VEVENT
DTSTART;VALUE=DATE:20251001
DTEND;VALUE=DATE:20260128
DTSTAMP:20260422T025310
CREATED:20240630T070057Z
LAST-MODIFIED:20260204T055125Z
UID:2053-1759276800-1769558399@banjarmasin.ut.ac.id
SUMMARY:Sarjana/Diploma - Pendaftaran Mahasiswa Baru Alih Kredit
DESCRIPTION:Alih kredit jalur untuk membebaskan mata kuliah di UT agar tidak perlu ditempuh dengan kondisi sbb: \n\nSudah pernah kuliah dengan menyertakan bukti tranksrip nilai berlegalisir\, sehingga mata kuliah yang sudah pernah ditempuh sebelumnya yang mirip dengan mata kuliah yang ada di kurikulum program studi yang akan ditempuh oleh calon mahasiswa akan dibebaskan atau dianggap lulus saat sudah menjadi mahasiswa Universitas Terbuka.\nSedang bekerja dan sudah mempunyai pengalaman yang cukup lama\, yang mana pekerjaannya linier dengan program studi yang akan ditempuh dengan menyertakan bukti SK pengangakatan awal dan surat aktif bekerja. Sehingga akan ada beberapa mata kuliah yang relevan dengan pekerjaannya yang akan dibebaskan atau dianggap lulus saat sudah menjadi mahasiswa Universitas Terbuka.\n\nSilahkan tonton video ini untuk mempelajari cara mendaftarnya:
URL:https://banjarmasin.ut.ac.id/event/pendaftaran-mahasiswa-baru-alih-kredit/
CATEGORIES:Akademik
END:VEVENT
END:VCALENDAR